Workbook

Sheet Controls
A2: Input & Processing Order:
A3: 1)Add new members (if applicable) to the "Member List" sheet
A4: 2)Click "New Members Added" button - this adds the members to the bottom of the "Points" and "Money" sheets
A5: 3)Select "Member List" sheet and add "X" in the applicable tournament column for each member that played in the applicable tourmament.
A6: 4)Click "Update Number of Events Played - transfers total number of events played to "Points" and "Money" sheets
A7: 5)Insert new sheet for new tournament
A8: 6)Drag new sheet tab to far right
A9: 7)Add tournament names in the following format: Lastname, Firstname, Money won, Points earned
A10: 8)Click "Update Points, Money & Rank" button - only do this once after adding a new tournament. Clicking this button multiple times invalidates the "Prior month ranking"

Sheet Member List
A1: Members List | V1: `
C2: 2026/27 | D2: 2026/27 | E2: 2026/27 Tournaments ('X' indicates played)
A3: Last Name | B3: First Name | C3: Member | D3: HoleinOne | E3: 2026 City Champ | F3: OCT 999 | G3: NOV Ind | H3: DEC | I3: JAN | J3: FEB Ind | K3: MAR 999 | L3: MAR 666 | M3: FGA Champ | N3: MAY Ind | O3: JUNE Sham | P3: JUNE BB | Q3: JULY M/M | R3: AUG 666 | S3: AUG Stblfrd | X3: Events Played | Y3: M/M Qualified | Z3: Notes
A4: Abshere | B4: Mark | X4: =COUNTIF(E4:W4,"X") -> 0
A5: Ackerman | B5: Jeff | C5: Y | D5: Y | E5: X | X5: =COUNTIF(E5:W5,"X") -> 1
A6: Ackerman Jr | B6: Jeff | X6: =COUNTIF(E6:W6,"X") -> 0
A7: Acord | B7: Drake | X7: =COUNTIF(E7:W7,"X") -> 0
A8: Allen | B8: Bobby | X8: =COUNTIF(E8:W8,"X") -> 0
A9: Annamalai | B9: Segar | X9: =COUNTIF(E9:W9,"X") -> 0
A10: Arianna | B10: Trevor | C10: Y | D10: Y | E10: X | X10: =COUNTIF(E10:W10,"X") -> 1 | Z10: CC only 1 round
A11: Askew | B11: Michael | X11: =COUNTIF(E11:W11,"X") -> 0
A12: Azeez | B12: Ali | X12: =COUNTIF(E12:W12,"X") -> 0
A13: Babek | B13: Cameron | X13: =COUNTIF(E13:W13,"X") -> 0
A14: Babovec | B14: Lee | X14: =COUNTIF(E14:W14,"X") -> 0
A15: Baginski | B15: Craig | X15: =COUNTIF(E15:W15,"X") -> 0
A16: Baginski | B16: Kyle | X16: =COUNTIF(E16:W16,"X") -> 0
A17: Bailey | B17: Brett | X17: =COUNTIF(E17:W17,"X") -> 0
A18: Baird | B18: Joe | X18: =COUNTIF(E18:W18,"X") -> 0
A19: Baker | B19: Jeffery | X19: =COUNTIF(E19:W19,"X") -> 0
A20: Balderee | B20: John | C20: Y | D20: Y | E20: X | X20: =COUNTIF(E20:W20,"X") -> 1
A21: Ballantyne | B21: Cheralyn | X21: =COUNTIF(E21:W21,"X") -> 0
A22: Ballantyne | B22: Duncan | X22: =COUNTIF(E22:W22,"X") -> 0
A23: Ballard | B23: Benjamin | X23: =COUNTIF(E23:W23,"X") -> 0
A24: Ballard | B24: Catherine | X24: =COUNTIF(E24:W24,"X") -> 0
A25: Ballard | B25: Ron | C25: Y | D25: Y | E25: X | X25: =COUNTIF(E25:W25,"X") -> 1
A26: Barnett | B26: Deric | X26: =COUNTIF(E26:W26,"X") -> 0
A27: Bartley | B27: Reggie | X27: =COUNTIF(E27:W27,"X") -> 0
A28: Bassinger | B28: Steven | X28: =COUNTIF(E28:W28,"X") -> 0
A29: Baumer | B29: Don | C29: Y | D29: Y | E29: X | X29: =COUNTIF(E29:W29,"X") -> 1 | Z29: CC only 1 round
A30: Baxter | B30: Brennan | X30: =COUNTIF(E30:W30,"X") -> 0
A31: Baylis | B31: Jason | X31: =COUNTIF(E31:W31,"X") -> 0
A32: Black | B32: Jeremy | X32: =COUNTIF(E32:W32,"X") -> 0
A33: Blanchard | B33: Rob | X33: =COUNTIF(E33:W33,"X") -> 0
A34: Bolding | B34: Joshua | X34: =COUNTIF(E34:W34,"X") -> 0
A35: Booker | B35: Craig | X35: =COUNTIF(E35:W35,"X") -> 0
A36: Bourgeois | B36: Jacques | X36: =COUNTIF(E36:W36,"X") -> 0
A37: Boyd | B37: Dean | X37: =COUNTIF(E37:W37,"X") -> 0
A38: Boyle | B38: Brian | C38: Y | D38: Y | E38: X | X38: =COUNTIF(E38:W38,"X") -> 1
A39: Brand | B39: Gary | X39: =COUNTIF(E39:W39,"X") -> 0
A40: Brand | B40: Paul | X40: =COUNTIF(E40:W40,"X") -> 0
...

Sheet Points
B1: Points
J2: Finishing Points
A3: Rank | B3: Rank Last Update | C3: Last Name | D3: FirstName | E3: Events Played | F3: Total Points | I3: Participation Points - 3 per event played | J3: City Champ | K3: OCT 999 | L3: NOV Ind | M3: DEC | N3: JAN | O3: FEB Ind | P3: MAR 999 | Q3: MAR 666 | R3: FGA Champ | S3: MAY Ind | T3: JUNE Sham | U3: JUNE BB | V3: JULY M/M | W3: AUG 666 | X3: AUG Stlbfrd
A4: =IF(F4<>"",RANK(F4,F$5:F$372,0),"") -> 87 | B4: 194 | C4: Abshere | D4: Mark | E4: =COUNTIF('Member List'!E4:AB4,"X") -> 0 | F4: =SUM(I4:AG4) -> 0 | I4: =3*E4 -> 0
A5: =IF(F5<>"",RANK(F5,F$5:F$372,0),"") -> 1 | B5: 48 | C5: Ackerman | D5: Jeff | E5: =COUNTIF('Member List'!E5:AB5,"X") -> 1 | F5: =SUM(I5:AG5) -> 18 | I5: =3*E5 -> 3 | J5: 15
A6: =IF(F6<>"",RANK(F6,F$5:F$372,0),"") -> 87 | B6: 83 | C6: Ackerman Jr | D6: Jeff | E6: =COUNTIF('Member List'!E6:AB6,"X") -> 0 | F6: =SUM(I6:AG6) -> 0 | I6: =3*E6 -> 0
A7: =IF(F7<>"",RANK(F7,F$5:F$372,0),"") -> 87 | B7: 225 | C7: Acord | D7: Drake | E7: =COUNTIF('Member List'!E7:AB7,"X") -> 0 | F7: =SUM(I7:AG7) -> 0 | I7: =3*E7 -> 0
A8: =IF(F8<>"",RANK(F8,F$5:F$372,0),"") -> 87 | B8: 221 | C8: Allen | D8: Bobby | E8: =COUNTIF('Member List'!E8:AB8,"X") -> 0 | F8: =SUM(I8:AG8) -> 0 | I8: =3*E8 -> 0
A9: =IF(F9<>"",RANK(F9,F$5:F$372,0),"") -> 87 | B9: 70 | C9: Annamalai | D9: Segar | E9: =COUNTIF('Member List'!E9:AB9,"X") -> 0 | F9: =SUM(I9:AG9) -> 0 | I9: =3*E9 -> 0
A10: =IF(F10<>"",RANK(F10,F$5:F$372,0),"") -> 79 | B10: 103 | C10: Arianna | D10: Trevor | E10: =COUNTIF('Member List'!E10:AB10,"X") -> 1 | F10: =SUM(I10:AG10) -> 3 | I10: =3*E10 -> 3
A11: =IF(F11<>"",RANK(F11,F$5:F$372,0),"") -> 87 | B11: 225 | C11: Askew | D11: Michael | E11: =COUNTIF('Member List'!E11:AB11,"X") -> 0 | F11: =SUM(I11:AG11) -> 0 | I11: =3*E11 -> 0
A12: =IF(F12<>"",RANK(F12,F$5:F$372,0),"") -> 87 | B12: 93 | C12: Azeez | D12: Ali | E12: =COUNTIF('Member List'!E12:AB12,"X") -> 0 | F12: =SUM(I12:AG12) -> 0 | I12: =3*E12 -> 0
A13: =IF(F13<>"",RANK(F13,F$5:F$372,0),"") -> 87 | B13: 225 | C13: Babek | D13: Cameron | E13: =COUNTIF('Member List'!E13:AB13,"X") -> 0 | F13: =SUM(I13:AG13) -> 0 | I13: =3*E13 -> 0
A14: =IF(F14<>"",RANK(F14,F$5:F$372,0),"") -> 87 | B14: 79 | C14: Babovec | D14: Lee | E14: =COUNTIF('Member List'!E14:AB14,"X") -> 0 | F14: =SUM(I14:AG14) -> 0 | I14: =3*E14 -> 0
A15: =IF(F15<>"",RANK(F15,F$5:F$372,0),"") -> 87 | B15: 129 | C15: Baginski | D15: Craig | E15: =COUNTIF('Member List'!E15:AB15,"X") -> 0 | F15: =SUM(I15:AG15) -> 0 | I15: =3*E15 -> 0
A16: =IF(F16<>"",RANK(F16,F$5:F$372,0),"") -> 87 | B16: 205 | C16: Baginski | D16: Kyle | E16: =COUNTIF('Member List'!E16:AB16,"X") -> 0 | F16: =SUM(I16:AG16) -> 0 | I16: =3*E16 -> 0
A17: =IF(F17<>"",RANK(F17,F$5:F$372,0),"") -> 87 | B17: 225 | C17: Bailey | D17: Brett | E17: =COUNTIF('Member List'!E17:AB17,"X") -> 0 | F17: =SUM(I17:AG17) -> 0 | I17: =3*E17 -> 0
... A19: =IF(F19<>"",RANK(F19,F$5:F$372,0),"") -> 87 | B19: 136 | C19: Baker | D19: Jerrery | E19: =COUNTIF('Member List'!E19:AB19,"X") -> 0 | F19: =SUM(I19:AG19) -> 0 | I19: =3*E19 -> 0
A20: =IF(F20<>"",RANK(F20,F$5:F$372,0),"") -> 39 | B20: 68 | C20: Balderee | D20: John | E20: =COUNTIF('Member List'!E20:AB20,"X") -> 1 | F20: =SUM(I20:AG20) -> 14 | I20: =3*E20 -> 3 | J20: 11
A21: =IF(F21<>"",RANK(F21,F$5:F$372,0),"") -> 87 | B21: 35 | C21: Ballantyne | D21: Cheralyn | E21: =COUNTIF('Member List'!E21:AB21,"X") -> 0 | F21: =SUM(I21:AG21) -> 0 | I21: =3*E21 -> 0
A22: =IF(F22<>"",RANK(F22,F$5:F$372,0),"") -> 87 | B22: 46 | C22: Ballantyne | D22: Duncan | E22: =COUNTIF('Member List'!E22:AB22,"X") -> 0 | F22: =SUM(I22:AG22) -> 0 | I22: =3*E22 -> 0
A23: =IF(F23<>"",RANK(F23,F$5:F$372,0),"") -> 87 | B23: 99 | C23: Ballard | D23: Benjamin | E23: =COUNTIF('Member List'!E23:AB23,"X") -> 0 | F23: =SUM(I23:AG23) -> 0 | I23: =3*E23 -> 0
A24: =IF(F24<>"",RANK(F24,F$5:F$372,0),"") -> 87 | B24: 225 | C24: Ballard | D24: Catherine | E24: =COUNTIF('Member List'!E24:AB24,"X") -> 0 | F24: =SUM(I24:AG24) -> 0 | I24: =3*E24 -> 0
A25: =IF(F25<>"",RANK(F25,F$5:F$372,0),"") -> 1 | B25: 24 | C25: Ballard | D25: Ron | E25: =COUNTIF('Member List'!E25:AB25,"X") -> 1 | F25: =SUM(I25:AG25) -> 18 | I25: =3*E25 -> 3 | J25: 15
A26: =IF(F26<>"",RANK(F26,F$5:F$372,0),"") -> 87 | B26: 129 | C26: Barnett | D26: Deric | E26: =COUNTIF('Member List'!E26:AB26,"X") -> 0 | F26: =SUM(I26:AG26) -> 0 | I26: =3*E26 -> 0
A27: =IF(F27<>"",RANK(F27,F$5:F$372,0),"") -> 87 | B27: 79 | C27: Bartley | D27: Reggie | E27: =COUNTIF('Member List'!E27:AB27,"X") -> 0 | F27: =SUM(I27:AG27) -> 0 | I27: =3*E27 -> 0
A28: =IF(F28<>"",RANK(F28,F$5:F$372,0),"") -> 87 | B28: 151 | C28: Bassinger | D28: Steven | E28: =COUNTIF('Member List'!E28:AB28,"X") -> 0 | F28: =SUM(I28:AG28) -> 0 | I28: =3*E28 -> 0
A29: =IF(F29<>"",RANK(F29,F$5:F$372,0),"") -> 79 | B29: 25 | C29: Baumer | D29: Don | E29: =COUNTIF('Member List'!E29:AB29,"X") -> 1 | F29: =SUM(I29:AG29) -> 3 | I29: =3*E29 -> 3
A30: =IF(F30<>"",RANK(F30,F$5:F$372,0),"") -> 87 | B30: 173 | C30: Baxter | D30: Brennan | E30: =COUNTIF('Member List'!E30:AB30,"X") -> 0 | F30: =SUM(I30:AG30) -> 0 | I30: =3*E30 -> 0
A31: =IF(F31<>"",RANK(F31,F$5:F$372,0),"") -> 87 | B31: 208 | C31: Baylis | D31: Jason | E31: =COUNTIF('Member List'!E31:AB31,"X") -> 0 | F31: =SUM(I31:AG31) -> 0 | I31: =3*E31 -> 0
A32: =IF(F32<>"",RANK(F32,F$5:F$372,0),"") -> 87 | B32: 216 | C32: Black | D32: Jeremy | E32: =COUNTIF('Member List'!E32:AB32,"X") -> 0 | F32: =SUM(I32:AG32) -> 0 | I32: =3*E32 -> 0
A33: =IF(F33<>"",RANK(F33,F$5:F$372,0),"") -> 87 | B33: 165 | C33: Blanchard | D33: Rob | E33: =COUNTIF('Member List'!E33:AB33,"X") -> 0 | F33: =SUM(I33:AG33) -> 0 | I33: =3*E33 -> 0
A34: =IF(F34<>"",RANK(F34,F$5:F$372,0),"") -> 87 | B34: 225 | C34: Bolding | D34: Joshua | E34: =COUNTIF('Member List'!E34:AB34,"X") -> 0 | F34: =SUM(I34:AG34) -> 0 | I34: =3*E34 -> 0
A35: =IF(F35<>"",RANK(F35,F$5:F$372,0),"") -> 87 | B35: 225 | C35: Booker | D35: Craig | E35: =COUNTIF('Member List'!E35:AB35,"X") -> 0 | F35: =SUM(I35:AG35) -> 0 | I35: =3*E35 -> 0
A36: =IF(F36<>"",RANK(F36,F$5:F$372,0),"") -> 87 | B36: 12 | C36: Bourgeois | D36: Jacques | E36: =COUNTIF('Member List'!E36:AB36,"X") -> 0 | F36: =SUM(I36:AG36) -> 0 | I36: =3*E36 -> 0
A37: =IF(F37<>"",RANK(F37,F$5:F$372,0),"") -> 87 | B37: 225 | C37: Boyd | D37: Dean | E37: =COUNTIF('Member List'!E37:AB37,"X") -> 0 | F37: =SUM(I37:AG37) -> 0 | I37: =3*E37 -> 0
A38: =IF(F38<>"",RANK(F38,F$5:F$372,0),"") -> 46 | B38: 89 | C38: Boyle | D38: Brian | E38: =COUNTIF('Member List'!E38:AB38,"X") -> 1 | F38: =SUM(I38:AG38) -> 13 | I38: =3*E38 -> 3 | J38: 10
A39: =IF(F39<>"",RANK(F39,F$5:F$372,0),"") -> 87 | B39: 225 | C39: Brand | D39: Gary | E39: =COUNTIF('Member List'!E39:AB39,"X") -> 0 | F39: =SUM(I39:AG39) -> 0 | I39: =3*E39 -> 0
A40: =IF(F40<>"",RANK(F40,F$5:F$372,0),"") -> 87 | B40: 152 | C40: Brand | D40: Paul | E40: =COUNTIF('Member List'!E40:AB40,"X") -> 0 | F40: =SUM(I40:AG40) -> 0 | I40: =3*E40 -> 0
A41: =IF(F41<>"",RANK(F41,F$5:F$372,0),"") -> 87 | B41: 225 | C41: Brand | D41: Scott | E41: =COUNTIF('Member List'!E41:AB41,"X") -> 0 | F41: =SUM(I41:AG41) -> 0 | I41: =3*E41 -> 0
...

Sheet Money
B1: Pro Shop Money
A3: Rank | B3: Rank Last Update | C3: Last Name | D3: FirstName | E3: Events Played | F3: Total Money | I3: City Champ | J3: Oct 999 | K3: NOV Ind | L3: DEC | M3: JAN | N3: FEB Ind | O3: MAR 999 | P3: MAR 666 | Q3: FGA Champ | R3: MAY Ind | S3: JUNE Sham | T3: JUNE BB | U3: JULY M/M | V3: AUG 666 | W3: AUG Stlbfrd
A4: =IF(F4<>"",RANK(F4,F$5:F$372,0),"") -> 41 | B4: 169 | C4: Abshere | D4: Mark | E4: =COUNTIF('Member List'!E4:AB4,"X") -> 0 | F4: =SUM(I4:AF4) -> 0
A5: =IF(F5<>"",RANK(F5,F$5:F$372,0),"") -> 1 | B5: 71 | C5: Ackerman | D5: Jeff | E5: =COUNTIF('Member List'!E5:AB5,"X") -> 1 | F5: =SUM(I5:AF5) -> 235 | I5: 235
A6: =IF(F6<>"",RANK(F6,F$5:F$372,0),"") -> 41 | B6: 155 | C6: Ackerman Jr | D6: Jeff | E6: =COUNTIF('Member List'!E6:AB6,"X") -> 0 | F6: =SUM(I6:AF6) -> 0
A7: =IF(F7<>"",RANK(F7,F$5:F$372,0),"") -> 41 | B7: 169 | C7: Acord | D7: Drake | E7: =COUNTIF('Member List'!E7:AB7,"X") -> 0 | F7: =SUM(I7:AF7) -> 0
A8: =IF(F8<>"",RANK(F8,F$5:F$372,0),"") -> 41 | B8: 169 | C8: Allen | D8: Bobby | E8: =COUNTIF('Member List'!E8:AB8,"X") -> 0 | F8: =SUM(I8:AF8) -> 0
A9: =IF(F9<>"",RANK(F9,F$5:F$372,0),"") -> 41 | B9: 50 | C9: Annamalai | D9: Segar | E9: =COUNTIF('Member List'!E9:AB9,"X") -> 0 | F9: =SUM(I9:AF9) -> 0
A10: =IF(F10<>"",RANK(F10,F$5:F$372,0),"") -> 29 | B10: 46 | C10: Arianna | D10: Trevor | E10: =COUNTIF('Member List'!E10:AB10,"X") -> 1 | F10: =SUM(I10:AF10) -> 35 | I10: 35
A11: =IF(F11<>"",RANK(F11,F$5:F$372,0),"") -> 41 | B11: 169 | C11: Askew | D11: Michael | E11: =COUNTIF('Member List'!E11:AB11,"X") -> 0 | F11: =SUM(I11:AF11) -> 0
A12: =IF(F12<>"",RANK(F12,F$5:F$372,0),"") -> 41 | B12: 143 | C12: Azeez | D12: Ali | E12: =COUNTIF('Member List'!E12:AB12,"X") -> 0 | F12: =SUM(I12:AF12) -> 0
A13: =IF(F13<>"",RANK(F13,F$5:F$372,0),"") -> 41 | B13: 169 | C13: Babek | D13: Cameron | E13: =COUNTIF('Member List'!E13:AB13,"X") -> 0 | F13: =SUM(I13:AF13) -> 0
A14: =IF(F14<>"",RANK(F14,F$5:F$372,0),"") -> 41 | B14: 67 | C14: Babovec | D14: Lee | E14: =COUNTIF('Member List'!E14:AB14,"X") -> 0 | F14: =SUM(I14:AF14) -> 0
A15: =IF(F15<>"",RANK(F15,F$5:F$372,0),"") -> 41 | B15: 92 | C15: Baginski | D15: Craig | E15: =COUNTIF('Member List'!E15:AB15,"X") -> 0 | F15: =SUM(I15:AF15) -> 0
A16: =IF(F16<>"",RANK(F16,F$5:F$372,0),"") -> 41 | B16: 169 | C16: Baginski | D16: Kyle | E16: =COUNTIF('Member List'!E16:AB16,"X") -> 0 | F16: =SUM(I16:AF16) -> 0
A17: =IF(F17<>"",RANK(F17,F$5:F$372,0),"") -> 41 | B17: 169 | C17: Bailey | D17: Brett | E17: =COUNTIF('Member List'!E17:AB17,"X") -> 0 | F17: =SUM(I17:AF17) -> 0
A18: =IF(F18<>"",RANK(F18,F$5:F$372,0),"") -> 41 | B18: 136 | C18: Baird | D18: Joe | E18: =COUNTIF('Member List'!E18:AB18,"X") -> 0 | F18: =SUM(I18:AF18) -> 0
A19: =IF(F19<>"",RANK(F19,F$5:F$372,0),"") -> 41 | B19: 169 | C19: Baker | D19: Jerrery | E19: =COUNTIF('Member List'!E19:AB19,"X") -> 0 | F19: =SUM(I19:AF19) -> 0
A20: =IF(F20<>"",RANK(F20,F$5:F$372,0),"") -> 41 | B20: 15 | C20: Balderee | D20: John | E20: =COUNTIF('Member List'!E20:AB20,"X") -> 1 | F20: =SUM(I20:AF20) -> 0
A21: =IF(F21<>"",RANK(F21,F$5:F$372,0),"") -> 41 | B21: 34 | C21: Ballantyne | D21: Cheralyn | E21: =COUNTIF('Member List'!E21:AB21,"X") -> 0 | F21: =SUM(I21:AF21) -> 0
A22: =IF(F22<>"",RANK(F22,F$5:F$372,0),"") -> 41 | B22: 74 | C22: Ballantyne | D22: Duncan | E22: =COUNTIF('Member List'!E22:AB22,"X") -> 0 | F22: =SUM(I22:AF22) -> 0
... A24: =IF(F24<>"",RANK(F24,F$5:F$372,0),"") -> 41 | B24: 169 | C24: Ballard | D24: Catherine | E24: =COUNTIF('Member List'!E24:AB24,"X") -> 0 | F24: =SUM(I24:AF24) -> 0
A25: =IF(F25<>"",RANK(F25,F$5:F$372,0),"") -> 2 | B25: 25 | C25: Ballard | D25: Ron | E25: =COUNTIF('Member List'!E25:AB25,"X") -> 1 | F25: =SUM(I25:AF25) -> 135 | I25: 135
A26: =IF(F26<>"",RANK(F26,F$5:F$372,0),"") -> 41 | B26: 104 | C26: Barnett | D26: Deric | E26: =COUNTIF('Member List'!E26:AB26,"X") -> 0 | F26: =SUM(I26:AF26) -> 0
A27: =IF(F27<>"",RANK(F27,F$5:F$372,0),"") -> 41 | B27: 40 | C27: Bartley | D27: Reggie | E27: =COUNTIF('Member List'!E27:AB27,"X") -> 0 | F27: =SUM(I27:AF27) -> 0
A28: =IF(F28<>"",RANK(F28,F$5:F$372,0),"") -> 41 | B28: 160 | C28: Bassinger | D28: Steven | E28: =COUNTIF('Member List'!E28:AB28,"X") -> 0 | F28: =SUM(I28:AF28) -> 0
A29: =IF(F29<>"",RANK(F29,F$5:F$372,0),"") -> 41 | B29: 22 | C29: Baumer | D29: Don | E29: =COUNTIF('Member List'!E29:AB29,"X") -> 1 | F29: =SUM(I29:AF29) -> 0
A30: =IF(F30<>"",RANK(F30,F$5:F$372,0),"") -> 41 | B30: 129 | C30: Baxter | D30: Brennan | E30: =COUNTIF('Member List'!E30:AB30,"X") -> 0 | F30: =SUM(I30:AF30) -> 0
A31: =IF(F31<>"",RANK(F31,F$5:F$372,0),"") -> 41 | B31: 169 | C31: Baylis | D31: Jason | E31: =COUNTIF('Member List'!E31:AB31,"X") -> 0 | F31: =SUM(I31:AF31) -> 0
A32: =IF(F32<>"",RANK(F32,F$5:F$372,0),"") -> 41 | B32: 169 | C32: Black | D32: Jeremy | E32: =COUNTIF('Member List'!E32:AB32,"X") -> 0 | F32: =SUM(I32:AF32) -> 0
A33: =IF(F33<>"",RANK(F33,F$5:F$372,0),"") -> 41 | B33: 144 | C33: Blanchard | D33: Rob | E33: =COUNTIF('Member List'!E33:AB33,"X") -> 0 | F33: =SUM(I33:AF33) -> 0
A34: =IF(F34<>"",RANK(F34,F$5:F$372,0),"") -> 41 | B34: 169 | C34: Bolding | D34: Joshua | E34: =COUNTIF('Member List'!E34:AB34,"X") -> 0 | F34: =SUM(I34:AF34) -> 0
A35: =IF(F35<>"",RANK(F35,F$5:F$372,0),"") -> 41 | B35: 169 | C35: Booker | D35: Craig | E35: =COUNTIF('Member List'!E35:AB35,"X") -> 0 | F35: =SUM(I35:AF35) -> 0
A36: =IF(F36<>"",RANK(F36,F$5:F$372,0),"") -> 41 | B36: 36 | C36: Bourgeois | D36: Jacques | E36: =COUNTIF('Member List'!E36:AB36,"X") -> 0 | F36: =SUM(I36:AF36) -> 0
A37: =IF(F37<>"",RANK(F37,F$5:F$372,0),"") -> 41 | B37: 169 | C37: Boyd | D37: Dean | E37: =COUNTIF('Member List'!E37:AB37,"X") -> 0 | F37: =SUM(I37:AF37) -> 0
... A49: =IF(F49<>"",RANK(F49,F$5:F$372,0),"") -> 41 | B49: 169 | C49: Burch | D49: Mike | E49: =COUNTIF('Member List'!E49:AB49,"X") -> 0 | F49: =SUM(I49:AF49) -> 0
A50: =IF(F50<>"",RANK(F50,F$5:F$372,0),"") -> 10 | B50: 9 | C50: Burke | D50: Paul | E50: =COUNTIF('Member List'!E50:AB50,"X") -> 1 | F50: =SUM(I50:AF50) -> 100 | I50: 100
A51: =IF(F51<>"",RANK(F51,F$5:F$372,0),"") -> 41 | B51: 83 | C51: Burleson | D51: Jerry | E51: =COUNTIF('Member List'!E51:AB51,"X") -> 0 | F51: =SUM(I51:AF51) -> 0
A52: =IF(F52<>"",RANK(F52,F$5:F$372,0),"") -> 41 | B52: 169 | C52: Burton | D52: Tyler | E52: =COUNTIF('Member List'!E52:AB52,"X") -> 0 | F52: =SUM(I52:AF52) -> 0
A53: =IF(F53<>"",RANK(F53,F$5:F$372,0),"") -> 41 | B53: 99 | C53: Caldwell | D53: Randy | E53: =COUNTIF('Member List'!E53:AB53,"X") -> 1 | F53: =SUM(I53:AF53) -> 0
...

Sheet PointsNF
B1: Points
J2: Finishing Points
A3: Rank | B3: Rank Last Update | C3: Last Name | D3: FirstName | E3: Events Played | F3: Total Points | I3: Participation Points - 3 per event played | J3: City Champ | K3: OCT 999 | L3: NOV Ind | M3: DEC | N3: JAN | O3: FEB Ind | P3: MAR 999 | Q3: MAR 666 | R3: FGA Champ | S3: MAY Ind | T3: JUNE Sham | U3: JUNE BB | V3: JULY M/M | W3: AUG 666 | X3: AUG Stlbfrd
A4: 1 | B4: 48 | C4: Ackerman | D4: Jeff | E4: 1 | F4: 18 | I4: 3 | J4: 15
A5: 1 | B5: 24 | C5: Ballard | D5: Ron | E5: 1 | F5: 18 | I5: 3 | J5: 15
A6: 1 | B6: 76 | C6: Grelle | D6: Jason | E6: 1 | F6: 18 | I6: 3 | J6: 15
A7: 1 | B7: 32 | C7: Grimley | D7: John | E7: 1 | F7: 18 | I7: 3 | J7: 15
A8: 1 | B8: 81 | C8: Holder | D8: Freddy | E8: 1 | F8: 18 | I8: 3 | J8: 15
A9: 1 | B9: 12 | C9: Lynn | D9: Gary | E9: 1 | F9: 18 | I9: 3 | J9: 15
A10: 1 | B10: 88 | C10: Senter | D10: Mark | E10: 1 | F10: 18 | I10: 3 | J10: 15
A11: 1 | B11: 16 | C11: Swan | D11: Scott | E11: 1 | F11: 18 | I11: 3 | J11: 15
A12: 1 | B12: 1 | C12: Weiland | D12: Jason | E12: 1 | F12: 18 | I12: 3 | J12: 15
A13: 10 | B13: 20 | C13: Burke | D13: Paul | E13: 1 | F13: 17 | I13: 3 | J13: 14
A14: 10 | B14: 27 | C14: Decker | D14: Jared | E14: 1 | F14: 17 | I14: 3 | J14: 14
A15: 10 | B15: 113 | C15: Johnson | D15: Brandon | E15: 1 | F15: 17 | I15: 3 | J15: 14
... A81: 78 | B81: 65 | C81: Stockton | D81: Tommy | E81: 1 | F81: 9 | I81: 3 | J81: 6
A82: 79 | B82: 103 | C82: Arianna | D82: Trevor | E82: 1 | F82: 3 | I82: 3
A83: 79 | B83: 25 | C83: Baumer | D83: Don | E83: 1 | F83: 3 | I83: 3
A84: 79 | B84: 103 | C84: Bunch | D84: Joe | E84: 1 | F84: 3 | I84: 3
A85: 79 | B85: 9 | C85: Doty | D85: Dean | E85: 1 | F85: 3 | I85: 3
A86: 79 | B86: 30 | C86: Tupou | D86: Maxine | E86: 1 | F86: 3 | I86: 3
A87: 79 | B87: 55 | C87: Tupou | D87: Taufa | E87: 1 | F87: 3 | I87: 3
A88: 79 | B88: 42 | C88: Turner | D88: Wes | E88: 1 | F88: 3 | I88: 3
A89: 79 | B89: 189 | C89: Watterson | D89: Tyler | E89: 1 | F89: 3 | I89: 3
A90: 87 | B90: 194 | C90: Abshere | D90: Mark | E90: 0 | F90: 0 | I90: 0
A91: 87 | B91: 83 | C91: Ackerman Jr | D91: Jeff | E91: 0 | F91: 0 | I91: 0
A92: 87 | B92: 225 | C92: Acord | D92: Drake | E92: 0 | F92: 0 | I92: 0
A93: 87 | B93: 221 | C93: Allen | D93: Bobby | E93: 0 | F93: 0 | I93: 0
... A342: 87 | B342: 137 | C342: Yussman | D342: Brian | E342: 0 | F342: 0 | I342: 0
E343: Total | J343: =SUM(J5:J342) -> 853 | K343: =SUM(K5:K342) -> 0 | L343: =SUM(L5:L342) -> 0 | M343: =SUM(M5:M342) -> 0 | N343: =SUM(N5:N342) -> 0 | O343: =SUM(O5:O342) -> 0 | P343: =SUM(P5:P342) -> 0 | Q343: =SUM(Q5:Q342) -> 0 | R343: =SUM(R5:R342) -> 0 | S343: =SUM(S4:S342) -> 0 | T343: =SUM(T4:T342) -> 0 | U343: =SUM(U4:U342) -> 0 | V343: =SUM(V4:V342) -> 0 | W343: =SUM(W4:W342) -> 0 | X343: =SUM(X4:X342) -> 0 | Y343: =SUM(Y5:Y342) -> 0

Sheet MoneyNF
B1: Pro Shop Money
A3: Rank | B3: Rank Last Update | C3: Last Name | D3: FirstName | E3: Events Played | F3: Total Money | I3: City Champ | J3: Oct 999 | K3: NOV Ind | L3: DEC | M3: JAN | N3: FEB Ind | O3: MAR 999 | P3: MAR 666 | Q3: FGA Champ | R3: MAY Ind | S3: JUNE Sham | T3: JUNE BB | U3: JULY M/M | V3: AUG 666 | W3: AUG Stlbfrd
A4: 1 | B4: 71 | C4: Ackerman | D4: Jeff | E4: 1 | F4: 235 | I4: 235
A5: 2 | B5: 25 | C5: Ballard | D5: Ron | E5: 1 | F5: 135 | I5: 135
A6: 2 | B6: 51 | C6: Grelle | D6: Jason | E6: 1 | F6: 135 | I6: 135
A7: 2 | B7: 73 | C7: Grimley | D7: John | E7: 1 | F7: 135 | I7: 135
A8: 2 | B8: 108 | C8: Holder | D8: Freddy | E8: 1 | F8: 135 | I8: 135
A9: 2 | B9: 29 | C9: Lynn | D9: Gary | E9: 1 | F9: 135 | I9: 135
A10: 2 | B10: 91 | C10: Senter | D10: Mark | E10: 1 | F10: 135 | I10: 135
A11: 2 | B11: 10 | C11: Swan | D11: Scott | E11: 1 | F11: 135 | I11: 135
A12: 9 | B12: 1 | C12: Weiland | D12: Jason | E12: 1 | F12: 130 | I12: 130
A13: 10 | B13: 9 | C13: Burke | D13: Paul | E13: 1 | F13: 100 | I13: 100
A14: 10 | B14: 27 | C14: Decker | D14: Jared | E14: 1 | F14: 100 | I14: 100
A15: 10 | B15: 149 | C15: Johnson | D15: Brandon | E15: 1 | F15: 100 | I15: 100
... A43: 39 | B43: 169 | C43: Wilcox | D43: Alice | E43: 1 | F43: 17.5 | I43: 17.5
A44: 41 | B44: 15 | C44: Balderee | D44: John | E44: 1 | F44: 0
A45: 41 | B45: 22 | C45: Baumer | D45: Don | E45: 1 | F45: 0
A46: 41 | B46: 120 | C46: Boyle | D46: Brian | E46: 1 | F46: 0
A47: 41 | B47: 89 | C47: Bunch | D47: Joe | E47: 1 | F47: 0
A48: 41 | B48: 99 | C48: Caldwell | D48: Randy | E48: 1 | F48: 0
A49: 41 | B49: 97 | C49: Conner | D49: Terence | E49: 1 | F49: 0
A50: 41 | B50: 159 | C50: Cummins | D50: Jeff | E50: 1 | F50: 0
A51: 41 | B51: 17 | C51: Doty | D51: Dean | E51: 1 | F51: 0
A52: 41 | B52: 59 | C52: Essary | D52: Michael | E52: 1 | F52: 0
A53: 41 | B53: 169 | C53: Fidel | D53: Dave | E53: 1 | F53: 0
A54: 41 | B54: 113 | C54: Francisco | D54: Larry | E54: 1 | F54: 0
A55: 41 | B55: 59 | C55: Frias | D55: Christopher | E55: 1 | F55: 0
... A342: 41 | B342: 133 | C342: Yussman | D342: Brian | E342: 0 | F342: 0
E343: Total | I343: =SUM(I5:I342) -> 3020 | J343: =SUM(J5:J342) -> 0 | K343: =SUM(K5:K342) -> 0 | L343: =SUM(L5:L342) -> 0 | M343: =SUM(M5:M342) -> 0 | N343: =SUM(N5:N342) -> 0 | O343: =SUM(O5:O342) -> 0 | P343: =SUM(P5:P342) -> 0 | ... Y343: =SUM(Y5:Y342) -> 0 | AA343: =SUM(J343:Z343) -> 0 | AG343: =SUM($I343:AF343) -> 3020

Sheet CityChamp
A1: Garland City Championship
A3: Flight 1 | K3: Sr Flight 1
A4: Pos. | B4: Player | C4: Total To Par Gross | D4: R1 | E4: R2 | F4: Total Gross | G4: Purse | H4: Points | I4: Details | K4: Pos. | L4: Player | M4: Total To Par Gross | N4: R1 | O4: R2 | P4: Total Gross | Q4: Purse | R4: Points | S4: Details
A5: 1 | B5: Scott Swan | C5: 3 | D5: 71 | E5: 75 | F5: 146 | G5: $135.00 | H5: 15 | K5: 1 | L5: Gary Lynn** | M5: 8 | N5: 73 | O5: 78 | P5: 151 | Q5: $135.00 | R5: 15
A6: 2 | B6: Paul Burke | C6: 7 | D6: 72 | E6: 78 | F6: 150 | G6: $100.00 | H6: 14 | K6: 2 | L6: Craig LeJeune** | M6: 9 | N6: 78 | O6: 74 | P6: 152 | Q6: $100.00 | R6: 14
A7: 3 | B7: Chad Dunaway | C7: 9 | D7: 73 | E7: 79 | F7: 152 | G7: $70.00 | H7: 13 | K7: 3 | L7: Scotty Lynn** | M7: 11 | N7: 76 | O7: 78 | P7: 154 | Q7: $70.00 | R7: 13
A8: 4 | B8: Greg Haddon(p) | C8: 10 | D8: 73 | E8: 80 | F8: 153 | G8: $0.00 | H8: 12 | K8: 4 | L8: Kelly Spell**(p) | M8: 12 | N8: 78 | O8: 77 | P8: 155 | Q8: $35.00 | R8: 12 | S8: 2nd Day Money
A9: 5 | B9: Jeff Cummins | C9: 11 | D9: 74 | E9: 80 | F9: 154 | G9: $0.00 | H9: 11 | K9: 5 | L9: Shon Schleicher** | M9: 15 | N9: 74 | O9: 84 | P9: 158 | Q9: $0.00 | R9: 11
A10: 6 | B10: Christopher Frias | C10: 14 | D10: 79 | E10: 78 | F10: 157 | G10: $0.00 | H10: 10 | K10: 6 | L10: Robert Shelton**(p) | M10: 17 | N10: 80 | O10: 80 | P10: 160 | Q10: $0.00 | R10: 10
A11: 7 | B11: Will Rheaume | C11: 19 | D11: 75 | E11: 87 | F11: 162 | G11: $0.00 | H11: 9 | K11: 7 | L11: Stephen Mounce** | M11: 18 | N11: 76 | O11: 85 | P11: 161 | Q11: $0.00 | R11: 9
A12: 8 | B12: Harry Smith(p) | C12: 20 | D12: 83 | E12: 80 | F12: 163 | G12: $0.00 | H12: 8 | K12: 8 | L12: rod kraft** | M12: 35 | N12: 87 | O12: 91 | P12: 178 | Q12: $0.00 | R12: 8
A13: NC | B13: Tyler Watterson | C13: - | D13: 69 | E13: NC | F13: NC | G13: $0.00 | H13: 0 | K13: NS | L13: Don Baumer** | M13: - | N13: 74 | O13: NS | P13: NS | Q13: $0.00 | R13: 0
A14: 9 | B14: Trevor Arianna | C14: 4 | E14: 76 | F14: 76 | G14: $35.00 | H14: 0 | I14: 2nd Day Money
K15: Sr Flight 2
A16: Flight 2 | K16: Pos. | L16: Player | M16: Total To Par Gross | N16: R1 | O16: R2 | P16: Total Gross | Q16: Purse | R16: Points | S16: Details
A17: Pos. | B17: Player | C17: Total To Par Gross | D17: R1 | E17: R2 | F17: Total Gross | G17: Purse | H17: Points | I17: Details | K17: 1 | L17: Freddy Holder** | M17: 21 | N17: 75 | O17: 89 | P17: 164 | Q17: $135.00 | R17: 15
A18: 1 | B18: Jason Grelle | C18: 11 | D18: 74 | E18: 80 | F18: 154 | G18: $135.00 | H18: 15 | K18: 2 | L18: Joe Pryor Jr** | M18: 22 | N18: 85 | O18: 80 | P18: 165 | Q18: $100.00 | R18: 14
A19: 2 | B19: Brandon Johnson | C19: 14 | D19: 72 | E19: 85 | F19: 157 | G19: $100.00 | H19: 14 | K19: 3 | L19: Todd Christenson** | M19: 26 | N19: 82 | O19: 87 | P19: 169 | Q19: $70.00 | R19: 13
A20: T3 | B20: George Jones | C20: 17 | D20: 79 | E20: 81 | F20: 160 | G20: $35.00 | H20: 12 | I20: 2nd Day Money | K20: 4 | L20: Micheal Carpenter** | M20: 29 | N20: 83 | O20: 89 | P20: 172 | Q20: $35.00 | R20: 12 | S20: 2nd Day Money
A21: T3 | B21: Nick Mccoy | C21: 17 | D21: 75 | E21: 85 | F21: 160 | G21: $35.00 | H21: 12 | K21: 5 | L21: Larry Francisco**(p) | M21: 32 | N21: 85 | O21: 90 | P21: 175 | Q21: $0.00 | R21: 11
A22: T3 | B22: Angel Hernandez | C22: 17 | D22: 75 | E22: 85 | F22: 160 | G22: $35.00 | H22: 12 | K22: T6 | L22: Robert Schneeberg** | M22: 36 | N22: 87 | O22: 92 | P22: 179 | Q22: $0.00 | R22: 9.5
A23: 6 | B23: Tam Vu | C23: 19 | D23: 82 | E23: 80 | F23: 162 | G23: $0.00 | H23: 10 | K23: T6 | L23: Frank Macalik** | M23: 36 | N23: 87 | O23: 92 | P23: 179 | Q23: $0.00 | R23: 9.5
A24: 7 | B24: Eric Richardson | C24: 20 | D24: 76 | E24: 87 | F24: 163 | G24: $0.00 | H24: 9 | K24: 8 | L24: Randy Caldwell**(p) | M24: 37 | N24: 88 | O24: 92 | P24: 180 | Q24: $0.00 | R24: 8
A25: 8 | B25: Peter Kang | C25: 29 | D25: 89 | E25: 83 | F25: 172 | G25: $0.00 | H25: 8 | K25: NS | L25: Joe Hathoot** | M25: - | N25: NS | P25: NS | Q25: $0.00 | R25: 0
A26: WD | B26: Lance Luttrull | C26: - | D26: WD | F26: WD | G26: $0.00 | H26: 0
A27: 9 | B27: Taufa Tupou | C27: - | E27: 88 | F27: DNF | G27: $0.00 | H27: 0 | K27: Sr Flight 3
K28: Pos. | L28: Player | M28: Total To Par Gross | N28: R1 | O28: R2 | P28: Total Gross | Q28: Purse | R28: Points | S28: Details
A29: Flight 3 | K29: 1 | L29: Jeff Ackerman** | M29: 24 | N29: 83 | O29: 84 | P29: 167 | Q29: $135.00 | R29: 15
A30: Pos. | B30: Player | C30: Total To Par Gross | D30: R1 | E30: R2 | F30: Total Gross | G30: Purse | H30: Points | I30: Details | K30: 2 | L30: Steve Stout** | M30: 25 | N30: 85 | O30: 83 | P30: 168 | Q30: $100.00 | R30: 14
A31: 1 | B31: Ron Ballard | C31: 11 | D31: 77 | E31: 77 | F31: 154 | G31: $135.00 | H31: 15 | K31: 3 | L31: Michael Hegedus** | M31: 35 | N31: 87 | O31: 91 | P31: 178 | Q31: $70.00 | R31: 13
A32: 2 | B32: Jared Decker | C32: 14 | D32: 75 | E32: 82 | F32: 157 | G32: $100.00 | H32: 14 | K32: 4 | L32: Jon Richerson**(p) | M32: 36 | N32: 82 | O32: 97 | P32: 179 | Q32: $0.00 | R32: 12
A33: 3 | B33: Clay Mosley | C33: 18 | D33: 76 | E33: 85 | F33: 161 | G33: $70.00 | H33: 13 | K33: 5 | L33: Richard Edwards** | M33: 42 | N33: 90 | O33: 95 | P33: 185 | Q33: $17.50 | R33: 11 | S33: 2nd Day Money
A34: 4 | B34: Nathan Daun | C34: 20 | D34: 80 | E34: 83 | F34: 163 | G34: $35.00 | H34: 12 | I34: 2nd Day Money | K34: 6 | L34: Dave Lucius**(p) | M34: 43 | N34: 90 | O34: 96 | P34: 186 | Q34: $0.00 | R34: 10
A35: 5 | B35: john balderree | C35: 21 | D35: 78 | E35: 86 | F35: 164 | G35: $0.00 | H35: 11 | K35: 7 | L35: Andrew Wilcox** | M35: 45 | N35: 92 | O35: 96 | P35: 188 | Q35: $0.00 | R35: 9
A36: 6 | B36: Marty Hernandez | C36: 24 | D36: 81 | E36: 86 | F36: 167 | G36: $0.00 | H36: 10 | K36: 8 | L36: Bobby Sheppard**(p) | M36: 46 | N36: 89 | O36: 100 | P36: 189 | Q36: $0.00 | R36: 8
A37: 7 | B37: Richard Ziulek | C37: 27 | D37: 83 | E37: 87 | F37: 170 | G37: $0.00 | H37: 9 | K37: 9 | L37: Alice Wilcox*** | M37: 51 | N37: 99 | O37: 95 | P37: 194 | Q37: $17.50 | R37: 7 | S37: 2nd Day Money
A38: 8 | B38: Kevin Lambert(p) | C38: 32 | D38: 88 | E38: 87 | F38: 175 | G38: $0.00 | H38: 8
A39: T9 | B39: Viet Phan | C39: 34 | D39: 85 | E39: 92 | F39: 177 | G39: $0.00 | H39: 6.5 | K39: Sr Flight 4
A40: T9 | B40: Ben Fullerton(p) | C40: 34 | D40: 82 | E40: 95 | F40: 177 | G40: $0.00 | H40: 6.5 | K40: Pos. | L40: Player | M40: Total To Par Net | N40: R1 | O40: R2 | P40: Total Net | Q40: Purse | R40: Points | S40: Details
K41: 1 | L41: Mark Senter**(p) | M41: -15 | N41: 64 | O41: 64 | P41: 128 | Q41: $135.00 | R41: 15
...

Sheet Point Accumulation Rules
A2: 2017 Firewheel FGA - Point Accumulation Rules
A5: Points will be allotted in the following manner:
A7: 3 points awarded for each tournament/event in which you participate.
A9: Points will also be awarded based upon finish within each gross/net flight established for the first 10 places.
A11: 10 points for 1st place paid
A12: 9 points for 2nd place paid
A13: 8 points for 3rd place paid
A14: 7 points for 4th place paid
A15: 6 points for 5th place paid
A16: 5 points for 6th place paid
A17: 4 points for 7th place paid
A18: 3 points for 8th place paid
... A27: Effective April 2007
B28: 9 holes must be completed to receive participation points
B29: Event must be completed to receive finishing points
A32: Points Tie Breaker
B33: Events played
B34: Money awarded
B35: Coin toss
